BEGIN:VCALENDAR
VERSION:2.0
PRODID:-//CADFA - ECPv6.9.1//NONSGML v1.0//EN
CALSCALE:GREGORIAN
METHOD:PUBLISH
X-ORIGINAL-URL:https://www.cadfa.org
X-WR-CALDESC:Events for CADFA
REFRESH-INTERVAL;VALUE=DURATION:PT1H
X-Robots-Tag:noindex
X-PUBLISHED-TTL:PT1H
BEGIN:VTIMEZONE
TZID:Europe/London
BEGIN:DAYLIGHT
TZOFFSETFROM:+0000
TZOFFSETTO:+0100
TZNAME:BST
DTSTART:20250330T010000
END:DAYLIGHT
BEGIN:STANDARD
TZOFFSETFROM:+0100
TZOFFSETTO:+0000
TZNAME:GMT
DTSTART:20251026T010000
END:STANDARD
BEGIN:DAYLIGHT
TZOFFSETFROM:+0000
TZOFFSETTO:+0100
TZNAME:BST
DTSTART:20260329T010000
END:DAYLIGHT
BEGIN:STANDARD
TZOFFSETFROM:+0100
TZOFFSETTO:+0000
TZNAME:GMT
DTSTART:20261025T010000
END:STANDARD
END:VTIMEZONE
BEGIN:VEVENT
DTSTART;TZID=Europe/London:20260328T140000
DTEND;TZID=Europe/London:20260328T180000
DTSTAMP:20260420T143409
CREATED:20260314T112249Z
LAST-MODIFIED:20260314T114740Z
UID:8400-1774706400-1774720800@www.cadfa.org
SUMMARY:Fundraising Art Sale for CADFA
DESCRIPTION:Art Sale for CADFA at Cafe Palestina – Original art work by Rea Stavropoulos\nPaintings for sale – all profits to CADFA\nRAFFLE!!\n£5 raffle tickets to win one of two framed art works donated by the artist – available now at Cafe Palestina \nor online via cafepalestina.org.uk (search for raffle)\nPicture A https://cafepalestina.co.uk/p/raffle-for-original-artwork-by-rea-stavropoulos \nPicture B https://cafepalestina.co.uk/p/raffle-for-original-artwork-by-rea-stavropoulos-b \n  \n 
URL:https://www.cadfa.org/event/fundraising-art-sale-for-cadfa/
LOCATION:Cafe Palestina
END:VEVENT
BEGIN:VEVENT
DTSTART;TZID=Europe/London:20260314T180000
DTEND;TZID=Europe/London:20260314T200000
DTSTAMP:20260420T143409
CREATED:20260308T085227Z
LAST-MODIFIED:20260308T085227Z
UID:8376-1773511200-1773518400@www.cadfa.org
SUMMARY:A special Iftar with Issa Umro
DESCRIPTION:In co-operation with Islington PSC\, we’ve invited Issa Umro from Hebron to our special iftar on 14th March. He won’t be leaving Palestine till a few days before and of course in current context we don’t know if the airspace will be open. So do book in if you like (we would love to see you anyway – and it will be delicious anyway) but if it depends on Issa coming\, keep an eye out here (maybe we can do a Zoom if he can’t? tbc)
URL:https://www.cadfa.org/event/a-special-iftar-with-issa-umro/
LOCATION:Cafe Palestina\, 53 Fortess Road\, Kentish Town\, London\, County (Optional)\, NW5 1AD\, United Kingdom
CATEGORIES:Information event
END:VEVENT
BEGIN:VEVENT
DTSTART;TZID=Europe/London:20260114T183000
DTEND;TZID=Europe/London:20260114T193000
DTSTAMP:20260420T143409
CREATED:20260107T122520Z
LAST-MODIFIED:20260107T122520Z
UID:8263-1768415400-1768419000@www.cadfa.org
SUMMARY:Let`s Talk about Palestine
DESCRIPTION:At this appalling time with the atrocities of the genocide continue do come if you can to hear from friends in the West Bank.
URL:https://www.cadfa.org/event/lets-talk-about-palestine-29/
LOCATION:Cafe Palestina\, 53 Fortess Road\, Kentish Town\, London\, County (Optional)\, NW5 1AD\, United Kingdom
CATEGORIES:Information event
END:VEVENT
BEGIN:VEVENT
DTSTART;TZID=Europe/London:20251005T180000
DTEND;TZID=Europe/London:20251005T210000
DTSTAMP:20260420T143409
CREATED:20250821T102045Z
LAST-MODIFIED:20250907T061903Z
UID:8161-1759687200-1759698000@www.cadfa.org
SUMMARY:Meet with our Palestinian youth visitors ( Camden )
DESCRIPTION:Opening of exhibition / final event for the young people \nEventbrite registration \nhttp://eventbrite.co.uk/e/beyond-the-checkpoints-final-event-oct-2025-tickets-1670742689359?aff=erelexpmlt \nfor more info: contact@cadfa.org
URL:https://www.cadfa.org/event/meet-with-our-palestinian-youth-visitors-camden-2/
LOCATION:P21 gallery
CATEGORIES:Youth links
END:VEVENT
BEGIN:VEVENT
DTSTART;TZID=Europe/London:20251004T190000
DTEND;TZID=Europe/London:20251004T210000
DTSTAMP:20260420T143409
CREATED:20250821T101811Z
LAST-MODIFIED:20250821T101811Z
UID:8159-1759604400-1759611600@www.cadfa.org
SUMMARY:Meet with our Palestinian youth visitors (West Central London)
DESCRIPTION:Meet our Palestinian youth visitors from the West Bank and Jerusalem with the Building Hope Project organised by CADFA. \nIt will be an enlightening and informative evening on life in Palestine and how we can work together to strengthen human rights in Palestine.\nFor further details: contact@cadfa.org
URL:https://www.cadfa.org/event/meet-with-our-palestinian-youth-visitors-west-central-london/
CATEGORIES:Youth links
END:VEVENT
BEGIN:VEVENT
DTSTART;TZID=Europe/London:20251003T190000
DTEND;TZID=Europe/London:20251003T210000
DTSTAMP:20260420T143409
CREATED:20250821T101542Z
LAST-MODIFIED:20250907T054417Z
UID:8157-1759518000-1759525200@www.cadfa.org
SUMMARY:Meet with our Palestinian youth visitors (Islington)
DESCRIPTION:Meet our Palestinian youth visitors from the West Bank and Jerusalem with the Building Hope Project organised by CADFA. \nIt will be an enlightening and informative evening on life in Palestine and how we can work together to strengthen human rights in Palestine. \nEventbrite registration \nhttps://www.eventbrite.co.uk/e/1670748256009?aff=oddtdtcreator\nFor further details: contact@cadfa.org
URL:https://www.cadfa.org/event/meet-with-our-palestinian-youth-visitors-islington/
LOCATION:Islington Town Hall
CATEGORIES:Youth links
END:VEVENT
BEGIN:VEVENT
DTSTART;TZID=Europe/London:20251002T190000
DTEND;TZID=Europe/London:20251002T210000
DTSTAMP:20260420T143409
CREATED:20250821T101038Z
LAST-MODIFIED:20250821T101038Z
UID:8153-1759431600-1759438800@www.cadfa.org
SUMMARY:Meet with our Palestinian youth visitors (Ilford event)
DESCRIPTION:Meet our Palestinian youth visitors from the West Bank and Jerusalem with the Building Hope Project organised by CADFA. \nIt will be an enlightening and informative evening on life in Palestine and how we can work together to strengthen human rights in Palestine.\nFor further details: contact@cadfa.org
URL:https://www.cadfa.org/event/meet-with-our-palestinian-youth-visitors-ilford-event/
CATEGORIES:Youth links
END:VEVENT
BEGIN:VEVENT
DTSTART;TZID=Europe/London:20251001T140000
DTEND;TZID=Europe/London:20251001T160000
DTSTAMP:20260420T143409
CREATED:20250821T101312Z
LAST-MODIFIED:20250907T054547Z
UID:8155-1759327200-1759334400@www.cadfa.org
SUMMARY:Meet with our Palestinian youth visitors ( Camden )
DESCRIPTION:Welcome meal with the visitors \nEventbrite registration \nhttps://www.eventbrite.co.uk/e/camden-welcome-meal-for-the-young-palestinian-visitors-tickets-1670672950769 \nmore info:contact@cadfa.org\n \n 
URL:https://www.cadfa.org/event/meet-with-our-palestinian-youth-visitors-camden/
LOCATION:Cafe Palestina\, 53 Fortess Road\, Kentish Town\, London\, County (Optional)\, NW5 1AD\, United Kingdom
CATEGORIES:Youth links
END:VEVENT
BEGIN:VEVENT
DTSTART;TZID=Europe/London:20250929T183000
DTEND;TZID=Europe/London:20250929T200000
DTSTAMP:20260420T143409
CREATED:20250821T100811Z
LAST-MODIFIED:20250907T065140Z
UID:8150-1759170600-1759176000@www.cadfa.org
SUMMARY:Meet with our Palestinian youth visitors ( Cardiff )
DESCRIPTION:Meet our Palestinian youth visitors from the West Bank and Jerusalem with the Building Hope Project organised by CADFA. \nIt will be an enlightening and informative evening on life in Palestine and how we can work together to strengthen human rights in Palestine. \nEventbrite registrationhttps://wegottickets.com/event/675654\nFor further details: contact@cadfa.org
URL:https://www.cadfa.org/event/meet-with-our-palestinian-youth-visitors-cardiff/
LOCATION:Temple of Peace Cardiff
CATEGORIES:Youth links
END:VEVENT
BEGIN:VEVENT
DTSTART;TZID=Europe/London:20250928T190000
DTEND;TZID=Europe/London:20250928T210000
DTSTAMP:20260420T143409
CREATED:20250821T100548Z
LAST-MODIFIED:20250821T100548Z
UID:8148-1759086000-1759093200@www.cadfa.org
SUMMARY:Meet with our Palestinian youth visitors (Newport)
DESCRIPTION:Welcome meal with visitors \nmore details: contact@cadfa.org
URL:https://www.cadfa.org/event/meet-with-our-palestinian-youth-visitors-newport/
CATEGORIES:Youth links
END:VEVENT
BEGIN:VEVENT
DTSTART;TZID=Europe/London:20250928T143000
DTEND;TZID=Europe/London:20250928T163000
DTSTAMP:20260420T143409
CREATED:20250821T100349Z
LAST-MODIFIED:20250821T100349Z
UID:8146-1759069800-1759077000@www.cadfa.org
SUMMARY:Meet with our Palestinian youth visitors (Trefforest)
DESCRIPTION:Community football event \nfor more details: contact@cadfa.org
URL:https://www.cadfa.org/event/meet-with-our-palestinian-youth-visitors-trefforest/
CATEGORIES:Youth links
END:VEVENT
BEGIN:VEVENT
DTSTART;TZID=Europe/London:20250927T190000
DTEND;TZID=Europe/London:20250927T210000
DTSTAMP:20260420T143409
CREATED:20250821T100100Z
LAST-MODIFIED:20250907T054746Z
UID:8144-1758999600-1759006800@www.cadfa.org
SUMMARY:Meet with our Palestinian youth visitors (Ludlow)
DESCRIPTION:Meet our Palestinian youth visitors from the West Bank and Jerusalem with the Building Hope Project organised by CADFA. \nIt will be an enlightening and informative evening on life in Palestine and how we can work together to strengthen human rights in Palestine. \nEventbrite registration \nhttps://www.eventbrite.co.uk/e/1661058804599?aff=oddtdtcreator\nFor further details: contact@cadfa.org \n 
URL:https://www.cadfa.org/event/meet-with-our-palestinian-youth-visitors-ludlow/
CATEGORIES:Youth links
END:VEVENT
BEGIN:VEVENT
DTSTART;TZID=Europe/London:20250927T130000
DTEND;TZID=Europe/London:20250927T143000
DTSTAMP:20260420T143409
CREATED:20250821T095848Z
LAST-MODIFIED:20250821T095848Z
UID:8142-1758978000-1758983400@www.cadfa.org
SUMMARY:Meet with our Palestinian youth visitors (Craven Arms)
DESCRIPTION:Welcome meal in Craven Arms. \nfor more details: contact@cadfa.org
URL:https://www.cadfa.org/event/meet-with-our-palestinian-youth-visitors-craven-arms/
CATEGORIES:Youth links
END:VEVENT
BEGIN:VEVENT
DTSTART;TZID=Europe/London:20250926T183000
DTEND;TZID=Europe/London:20250926T210000
DTSTAMP:20260420T143409
CREATED:20250821T095600Z
LAST-MODIFIED:20250907T054657Z
UID:8139-1758911400-1758920400@www.cadfa.org
SUMMARY:Meet with our Palestinian youth visitors (Knighton)
DESCRIPTION:Meet our Palestinian youth visitors from the West Bank and Jerusalem with the Building Hope Project organised by CADFA. \nIt will be an enlightening and informative evening on life in Palestine and how we can work together to strengthen human rights in Palestine. \nEventbrite registration \nhttps://www.eventbrite.co.uk/e/1596595001629?aff=oddtdtcreator\nFor further details: contact@cadfa.org \n 
URL:https://www.cadfa.org/event/meet-with-our-palestinian-youth-visitors-knighton/
LOCATION:Knighton\, Offa’s Dyke Centre
CATEGORIES:Youth links
END:VEVENT
BEGIN:VEVENT
DTSTART;TZID=Europe/London:20250924T190000
DTEND;TZID=Europe/London:20250924T210000
DTSTAMP:20260420T143409
CREATED:20250821T095235Z
LAST-MODIFIED:20250821T095235Z
UID:8137-1758740400-1758747600@www.cadfa.org
SUMMARY:Meet with our Palestinian youth visitors in (Machynlleth)
DESCRIPTION:Meet our Palestinian youth visitors from the West Bank and Jerusalem with the Building Hope Project organised by CADFA. \nIt will be an enlightening and informative evening on life in Palestine and how we can work together to strengthen human rights in Palestine.\nFor further details: contact@cadfa.org
URL:https://www.cadfa.org/event/meet-with-our-palestinian-youth-visitors-in-machynlleth/
CATEGORIES:Youth links
END:VEVENT
BEGIN:VEVENT
DTSTART;TZID=Europe/London:20250922T130000
DTEND;TZID=Europe/London:20250922T163000
DTSTAMP:20260420T143409
CREATED:20250821T094724Z
LAST-MODIFIED:20250821T094724Z
UID:8134-1758546000-1758558600@www.cadfa.org
SUMMARY:Meeting with our Palestinian youth visitors in (Chester)
DESCRIPTION:Welcome meal with the visitors\nFor further details: contact@cadfa.org
URL:https://www.cadfa.org/event/meeting-with-our-palestinian-youth-visitors-in-chester/
END:VEVENT
BEGIN:VEVENT
DTSTART;TZID=Europe/London:20250913T193000
DTEND;TZID=Europe/London:20250913T213000
DTSTAMP:20260420T143409
CREATED:20250909T091149Z
LAST-MODIFIED:20250909T093936Z
UID:8198-1757791800-1757799000@www.cadfa.org
SUMMARY:Music for Palestine
DESCRIPTION:Performers include:\nDjanan Turan: Turkish and political songs\nRona Topaz: jazz and original political songs\nCafé Palestina Trio: Arabic songs from Rhiz (voice)\, Robert (guitar) and Les (violin);also Spanish-language songs:tickers will be on Eventbrite\nhttps://share.google/nsNJD7qW2UOxDeojT
URL:https://www.cadfa.org/event/music-for-palestine-3/
CATEGORIES:Fundraising Event
END:VEVENT
BEGIN:VEVENT
DTSTART;TZID=Europe/London:20250503T180000
DTEND;TZID=Europe/London:20250503T193000
DTSTAMP:20260420T143409
CREATED:20250407T070614Z
LAST-MODIFIED:20250407T070614Z
UID:7977-1746295200-1746300600@www.cadfa.org
SUMMARY:Shanshula film and talk by the film-maker
DESCRIPTION:Shanshula film and talk by the film-makerabout the fishing community in Gaza6pm on Saturday 3rd Mayat Genesis Cinema\, Mile EndPLEASE SHARE thw ‘save the date’ notice above with all the organisations you know that may have interested members! The Genesis Cinema is big and we hope to fill it – this film and the talk by Musheir al Farra deserve a big audience.\nBooking details follow but let’s get going advertising everywhere we can even before they come
URL:https://www.cadfa.org/event/shanshula-film-and-talk-by-the-film-maker/
CATEGORIES:Fundraising Event,Information event
END:VEVENT
BEGIN:VEVENT
DTSTART;TZID=Europe/London:20250502T070000
DTEND;TZID=Europe/London:20250502T210000
DTSTAMP:20260420T143409
CREATED:20250402T092027Z
LAST-MODIFIED:20250407T065823Z
UID:7954-1746169200-1746219600@www.cadfa.org
SUMMARY:Music 4 Palestine
DESCRIPTION:Arabic and other music in special evening to fundraise for CADFA’s next youth visit from Palestine.Join this special event for music from a variety of performersfundraising to raise money for CADFA’s next youth visit from Palestine.Cafe Palestina will open at 6.30 for food before the performances and stay open till 10pm (last food orders at 9.30) \ntickets \nhttps://www.eventbrite.co.uk/e/music-4-palestine-tickets-1315403369889?aff=oddtdtcreator
URL:https://www.cadfa.org/event/music-4-palestine-3/
LOCATION:Cafe Palestina
CATEGORIES:Fundraising Event
END:VEVENT
BEGIN:VEVENT
DTSTART;TZID=Europe/London:20250426T180000
DTEND;TZID=Europe/London:20250426T230000
DTSTAMP:20260420T143409
CREATED:20250402T094310Z
LAST-MODIFIED:20250402T100934Z
UID:7966-1745690400-1745708400@www.cadfa.org
SUMMARY:Tim Sanders Exhibition
DESCRIPTION:In 2023 East End Artist went to the West Bank of Palestine with a group of Health workers. He recoded some powerful images which have been exhibited widely and made into a 2025 calendar. \nOn Saturday April 26th Tower Hamlets PSC will be auctioning Tim’s original framed prints. Join us for a delicious Palestinian meal and a chance to hear Tim speak\, and to bid for you very own picture. Numbers are limited so book now! \nhttps://www.eventbrite.co.uk/e/fragments-of-palestine-auction-of-tim-sanders-original-pictures-tickets-1308273012799?aff=oddtdtcreator \n 
URL:https://www.cadfa.org/event/tim-sanders-exhibition/
LOCATION:cafe Palestina
CATEGORIES:Fundraising Event
END:VEVENT
BEGIN:VEVENT
DTSTART;TZID=Europe/London:20250426T080000
DTEND;TZID=Europe/London:20250426T170000
DTSTAMP:20260420T143409
CREATED:20250402T093608Z
LAST-MODIFIED:20250402T093608Z
UID:7963-1745654400-1745686800@www.cadfa.org
SUMMARY:Book club with Maqam
DESCRIPTION:afternoon Book club with Maqam “Everything for Everyone: An Oral History of the New York Commune 2052-207’ – you need to book in!
URL:https://www.cadfa.org/event/book-club-with-maqam/
LOCATION:cafe Palestina
CATEGORIES:Information event
END:VEVENT
BEGIN:VEVENT
DTSTART;TZID=Europe/London:20250423T080000
DTEND;TZID=Europe/London:20250423T170000
DTSTAMP:20260420T143409
CREATED:20250402T092314Z
LAST-MODIFIED:20250402T092314Z
UID:7957-1745395200-1745427600@www.cadfa.org
SUMMARY:Arabic in Wales
DESCRIPTION:Arabic-learning residential in Knighton\, Powys. Focus on Palestinian spoken Arabic. Twenty hours of Arabic tuition in small groups with the option to explore the local area people and walk in the beautiful countryside between (and while) learning. Homestay local people. Good home-cooked food. Local walks and activities available. Run by Café Palestina and CADFA – fundraising to support a youth visit fromPalestine to Wales this summer!
URL:https://www.cadfa.org/event/arabic-in-wales-2/
LOCATION:Wales
CATEGORIES:Fundraising Event,Information event
END:VEVENT
BEGIN:VEVENT
DTSTART;TZID=Europe/London:20250416T183000
DTEND;TZID=Europe/London:20250416T193000
DTSTAMP:20260420T143409
CREATED:20250402T092919Z
LAST-MODIFIED:20250407T071554Z
UID:7961-1744828200-1744831800@www.cadfa.org
SUMMARY:Let's Talk About Palestine
DESCRIPTION:we will tell you about the current situation in Palestine and there will be time for discussion. No knowledge about Palestine is assumed – anyone who supports human rights for everyone is welcome. \nZoom Link \nhttps://us02web.zoom.us/j/86995012714?pwd=Q3F2QVk5aEhTTjhEU3pwQjdiU2VLZz09
URL:https://www.cadfa.org/event/lets-talk-about-palestine-27/
LOCATION:Cafe Palestina
CATEGORIES:Information event
END:VEVENT
BEGIN:VEVENT
DTSTART;TZID=Europe/London:20250409T183000
DTEND;TZID=Europe/London:20250409T193000
DTSTAMP:20260420T143409
CREATED:20250407T065613Z
LAST-MODIFIED:20250407T065613Z
UID:7973-1744223400-1744227000@www.cadfa.org
SUMMARY:Let`s Talk About Palestine
DESCRIPTION:we will tell you about the current situation in Palestine and there will be time for discussion. No knowledge about Palestine is assumed – anyone who supports human rights for everyone is welcome.\nZoom link\nhttps://us02web.zoom.us/j/86995012714?pwd=Q3F2QVk5aEhTTjhEU3pwQjdiU2VLZz09
URL:https://www.cadfa.org/event/lets-talk-about-palestine-28/
LOCATION:cafe Palestina
CATEGORIES:Information event
END:VEVENT
BEGIN:VEVENT
DTSTART;TZID=Europe/London:20250322T193000
DTEND;TZID=Europe/London:20250322T210000
DTSTAMP:20260420T143409
CREATED:20250309T110826Z
LAST-MODIFIED:20250309T110826Z
UID:7916-1742671800-1742677200@www.cadfa.org
SUMMARY:Music 4 Palestine evening
DESCRIPTION:Next in the ever-popular series of music evenings in lovely Cafe Palestina \nTickets are available on Eventbrite \nMusic 4 Palestine Tickets\, Sat\, Mar 22\, 2025 at 7:30 PM | Eventbrite \n 
URL:https://www.cadfa.org/event/music-4-palestine-evening/
LOCATION:Cafe Palestina\, 53 Fortess Road\, Kentish Town\, London\, County (Optional)\, NW5 1AD\, United Kingdom
CATEGORIES:Fundraising Event
END:VEVENT
BEGIN:VEVENT
DTSTART;TZID=Europe/London:20250312T183000
DTEND;TZID=Europe/London:20250312T193000
DTSTAMP:20260420T143409
CREATED:20250309T112129Z
LAST-MODIFIED:20250309T112129Z
UID:7921-1741804200-1741807800@www.cadfa.org
SUMMARY:Let’s Talk About Palestine
DESCRIPTION:We have decided to do one week in person\, one on Zoom to try both to consolidate our local work and to reach the people across the country who are asking for it!\nNews from Palestine is grim – in devastated Gaza\, the Israelis are blocking food and aid again and threatening a return to the bombing that didn’t ever completely stop\, and in the West Bank and Jerusalem we are hearing from our friends of tanks\, soldiers and threats of all sorts.
URL:https://www.cadfa.org/event/lets-talk-about-palestine-26/
LOCATION:Cafe Palestina\, 53 Fortess Road\, Kentish Town\, London\, County (Optional)\, NW5 1AD\, United Kingdom
CATEGORIES:Information event
END:VEVENT
BEGIN:VEVENT
DTSTART;TZID=Europe/London:20250308T190000
DTEND;TZID=Europe/London:20250308T210000
DTSTAMP:20260420T143409
CREATED:20250309T111916Z
LAST-MODIFIED:20250309T111916Z
UID:7919-1741460400-1741467600@www.cadfa.org
SUMMARY:INTERNATIONAL WOMEN’S DAY
DESCRIPTION:Join us in person at Cafe Palestina for a making evening – Expect conversation on Zoom with Palestinian women friends while you will also have the chance to sew/ make with Fiona and her creative ideas 🙂\nTickets (by donation) on Eventbrite HERE
URL:https://www.cadfa.org/event/international-womens-day-4/
LOCATION:Cafe Palestina\, 53 Fortess Road\, Kentish Town\, London\, County (Optional)\, NW5 1AD\, United Kingdom
CATEGORIES:Information event
END:VEVENT
BEGIN:VEVENT
DTSTART;TZID=Europe/London:20250224T190000
DTEND;TZID=Europe/London:20250224T203000
DTSTAMP:20260420T143410
CREATED:20250128T132309Z
LAST-MODIFIED:20250128T132309Z
UID:7863-1740423600-1740429000@www.cadfa.org
SUMMARY:Final event with our Palestinian visitors!
DESCRIPTION:Celebrate our visitors’ time in the UK\, hear about their visit\, music\, food
URL:https://www.cadfa.org/event/final-event-with-our-palestinian-visitors/
LOCATION:Cafe Palestina
CATEGORIES:Information event
END:VEVENT
BEGIN:VEVENT
DTSTART;TZID=Europe/London:20250223T170000
DTEND;TZID=Europe/London:20250223T190000
DTSTAMP:20260420T143410
CREATED:20250206T090542Z
LAST-MODIFIED:20250206T090542Z
UID:7874-1740330000-1740337200@www.cadfa.org
SUMMARY:Building Hope voices from Palestine. A Palestinian afternoon in Wales
DESCRIPTION:Speakers from the West Bank and Jerusalem\, Palestinian food\, dabkeh dancing\, Film\, Palestinian stall
URL:https://www.cadfa.org/event/building-hope-voices-from-palestine-a-palestinian-afternoon-in-wales/
LOCATION:Knighton Community Centre
CATEGORIES:Information event
END:VEVENT
BEGIN:VEVENT
DTSTART;TZID=Europe/London:20250222T100000
DTEND;TZID=Europe/London:20250222T170000
DTSTAMP:20260420T143410
CREATED:20250122T090600Z
LAST-MODIFIED:20250122T092412Z
UID:7777-1740218400-1740243600@www.cadfa.org
SUMMARY:Building Hope Conference Feb 25th
DESCRIPTION:We’re looking forward to the Building Hope | Voices from Palestine conference on 22nd February 2025 which will bring UK and Palestinian partners together in London and in the different partner-places in the UK.\nBuilding Hope | Voices from Palestine is a project led by CADFA\, working with partners across the country\, aiming to create more opportunities for people to meet and listen to Palestinians and learn about the human rights situation there. On average we organise three group visits per year and take the visitors to partners’ towns all over the country to allow them to interact with people young and old and of many backgrounds in community contexts across the country.\nThe aims are\nTo bring groups of Palestinians on regular visits across England and Wales to speak about their experienceTo reach new people and work with a variety of groupsTo spread awareness of the human rights situation in Palestine to people across England and WalesTo encourage people to be active in promoting human rights in Palestine\nThe Building Hope Conference will strengthen and broaden the Building Hope project\, support the UK partner groups and their partnerships with Palestine by enabling groups to meet and run activities together in their UK linked towns and to all meet together to learn from each other’s experiences and discuss next steps together.\nfor tickets:\nBuilding Hope | Voices From Palestine Conference 2025 Tickets\, Sat\, Feb 22\, 2025 at 10:00 AM | Eventbrite\nMore info from contact@cadfa.org
URL:https://www.cadfa.org/event/building-hope-conference-feb-25th/
LOCATION:The Church at Carrs Lane Carrs Lane Birmingham B4 7SX\, The Church at Carrs Lane Carrs Lane Birmingham B4 7S\, Birmingham UK\, United Kingdom
CATEGORIES:Information event,Youth links
END:VEVENT
END:VCALENDAR